BEGIN:VCALENDAR
VERSION:2.0
PRODID:-//ChamberMaster//Event Calendar 2.0//EN
METHOD:PUBLISH
X-PUBLISHED-TTL:P3D
REFRESH-INTERVAL:P3D
CALSCALE:GREGORIAN
BEGIN:VEVENT
DTSTART:20210512T140000Z
DTEND:20210512T160000Z
X-MICROSOFT-CDO-ALLDAYEVENT:FALSE
SUMMARY:Webinar Series: Employee Development
DESCRIPTION:NWIRC is offering an Employee Development Webinar Series!\n\n\n\nEffective coaching helps people think for themselves\, suggest solutions versus complain about problems\, and take responsibility for their actions. As our world changes by the day and sometimes by the hour\, helping your team stay focused\, productive\, and motivated is as important for them as it is for you. Developing your coaching skills will not only help you be a better leader\, but it will help you develop your people too. \n\nSession 3: Coaching to Move People Forward (DDI)  This session welcomes Lisa Pustelak\, who is an Employee Development Specialist and Strategic Business Advisor at NWIRC and Certified DDI Facilitator. She's the previous Founder and CEO of LEDGE Enterprises\, LLC..
X-ALT-DESC;FMTTYPE=text/html:<span style="font-size:14px\;"><span style="font-family:tahoma\;">NWIRC is offering an Employee Development Webinar Series!</span></span><br />\n<br />\n<span style="color: rgb(0\, 0\, 0)\; font-family: Tahoma\, Geneva\, sans-serif\; font-size: 16px\;">Effective coaching helps people think for themselves\, suggest solutions versus complain about problems\, and take responsibility for their actions.&nbsp\;As our world changes by the day and sometimes by the hour\, helping your team stay focused\, productive\, and motivated is as important for them as it is for you. Developing your coaching skills will not only help you be a better leader\, but it will help you develop your people too.&nbsp\;<br />\n<strong>Session 3: Coaching to Move People Forward (DDI)</strong>&nbsp\; This session welcomes Lisa Pustelak\, who is an Employee Development Specialist and Strategic Business Advisor at NWIRC and Certified DDI Facilitator. She&#39\;s the previous Founder and CEO of LEDGE Enterprises\, LLC..</span><br />\n&nbsp\;
LOCATION:ONLINE Register at: https://nwirc.org/events/employee-development-webinar-series-coaching/
UID:e.3348.2258
SEQUENCE:3
DTSTAMP:20260421T081135Z
URL:http://duboispachamberpa1.chambermaster.com/events/details/webinar-series-employee-development-2258
END:VEVENT

END:VCALENDAR
